BEGIN:VCALENDAR
PRODID:brasil.gov.agenda
VERSION:1.0
BEGIN:VEVENT
DTSTART:20150130T003000Z
DTEND:20150130T004000Z
DCREATED:20150129T214435Z
UID:Compromisso-c493fc3250d6445cb50e4a2aeb8de5e8
SEQUENCE:0
LAST-MODIFIED:20170328T204827Z
SUMMARY:Chegada a Brasília/DF
LOCATION:Base Aérea de Brasília
PRIORITY:3
TRANSP:0
END:VEVENT
END:VCALENDAR
