BEGIN:VCALENDAR
PRODID:brasil.gov.agenda
VERSION:1.0
BEGIN:VEVENT
DTSTART:20150129T133000Z
DTEND:20150129T134000Z
DCREATED:20150128T215453Z
UID:Compromisso-78e4c3043a224078bd6742ec578a4184
SEQUENCE:0
LAST-MODIFIED:20170328T204827Z
SUMMARY:Partida para Brasília
LOCATION:Aeroporto Internacional Juan Santamaría\, Base 2
PRIORITY:3
TRANSP:0
END:VEVENT
END:VCALENDAR
