BEGIN:VCALENDAR
PRODID:brasil.gov.agenda
VERSION:1.0
BEGIN:VEVENT
DTSTART:20150129T120000Z
DTEND:20150129T121000Z
DCREATED:20150128T215341Z
UID:Compromisso-52b160c03780428f894589c92501eec9
SEQUENCE:0
LAST-MODIFIED:20170328T204827Z
SUMMARY:Retiro dos Chefes de Estado\, de Governo e Chanceleres da III Cúpula da Comunidade de Estados Latino-Americanos e Caribenhos (CELAC)
LOCATION:Centro de Eventos Pedregal - San José/Costa Rica
PRIORITY:3
TRANSP:0
END:VEVENT
END:VCALENDAR
