BEGIN:VCALENDAR
PRODID:brasil.gov.agenda
VERSION:1.0
BEGIN:VEVENT
DTSTART:20150130T190000Z
DTEND:20150130T184000Z
DCREATED:20150129T230324Z
UID:Compromisso-b07177938e3c434bb9ef4ff5574a441c
SEQUENCE:0
LAST-MODIFIED:20170328T204828Z
SUMMARY:Armando Monteiro Neto
LOCATION:Palácio do Planalto
PRIORITY:3
TRANSP:0
END:VEVENT
END:VCALENDAR
