BEGIN:VCALENDAR
PRODID:brasil.gov.agenda
VERSION:1.0
BEGIN:VEVENT
DTSTART:20150130T170000Z
DTEND:20150130T164000Z
DCREATED:20150129T230203Z
UID:Compromisso-a1940aa2f8034b3797d6d867e1630b72
SEQUENCE:0
LAST-MODIFIED:20170328T204828Z
SUMMARY:Geraldo Alckmin
LOCATION:Palácio do Planalto
PRIORITY:3
TRANSP:0
END:VEVENT
END:VCALENDAR
